BEGIN:VCALENDAR
VERSION:2.0
PRODID:icalendar-ruby
CALSCALE:GREGORIAN
METHOD:PUBLISH
BEGIN:VEVENT
DTSTAMP:20260419T175346Z
UID:8-202194@miraclecitycollective.org
DTSTART:20260906T170000Z
DTEND:20260906T190000Z
CLASS:PUBLIC
CREATED:20260419T100321
DESCRIPTION:
LAST-MODIFIED:20260419T100321
LOCATION:TBD
SUMMARY:Sunday Gathering
URL;VALUE=URI:https://www.miraclecitycollective.cloud/events/sunday-gatheri
 ng/2026-09-06
END:VEVENT
END:VCALENDAR
