BEGIN:VCALENDAR
VERSION:2.0
PRODID:icalendar-ruby
CALSCALE:GREGORIAN
METHOD:PUBLISH
BEGIN:VEVENT
DTSTAMP:20260419T210926Z
UID:8-202240@miraclecitycollective.org
DTSTART:20260920T170000Z
DTEND:20260920T190000Z
CLASS:PUBLIC
CREATED:20260419T134537
DESCRIPTION:
LAST-MODIFIED:20260419T134537
LOCATION:TBD
SUMMARY:Sunday Gathering
URL;VALUE=URI:https://www.miraclecitycollective.cloud/events/sunday-gatheri
 ng/2026-09-20
END:VEVENT
END:VCALENDAR
