BEGIN:VCALENDAR
VERSION:2.0
PRODID:icalendar-ruby
CALSCALE:GREGORIAN
METHOD:PUBLISH
BEGIN:VEVENT
DTSTAMP:20260419T224624Z
UID:8-202241@miraclecitycollective.org
DTSTART:20260927T170000Z
DTEND:20260927T190000Z
CLASS:PUBLIC
CREATED:20260419T134537
DESCRIPTION:
LAST-MODIFIED:20260419T134537
LOCATION:TBD
SUMMARY:Sunday Gathering
URL;VALUE=URI:https://www.miraclecitycollective.cloud/events/sunday-gatheri
 ng/2026-09-27
END:VEVENT
END:VCALENDAR
