BEGIN:VCALENDAR
VERSION:2.0
PRODID:icalendar-ruby
CALSCALE:GREGORIAN
METHOD:PUBLISH
BEGIN:VEVENT
DTSTAMP:20260420T014425Z
UID:8-202288@miraclecitycollective.org
DTSTART:20261011T170000Z
DTEND:20261011T190000Z
CLASS:PUBLIC
CREATED:20260419T172741
DESCRIPTION:
LAST-MODIFIED:20260419T172741
LOCATION:TBD
SUMMARY:Sunday Gathering
URL;VALUE=URI:https://www.miraclecitycollective.cloud/events/sunday-gatheri
 ng/2026-10-11
END:VEVENT
END:VCALENDAR
