BEGIN:VCALENDAR
VERSION:2.0
PRODID:icalendar-ruby
CALSCALE:GREGORIAN
METHOD:PUBLISH
BEGIN:VEVENT
DTSTAMP:20260420T055632Z
UID:8-202336@miraclecitycollective.org
DTSTART:20261101T180000Z
DTEND:20261101T200000Z
CLASS:PUBLIC
CREATED:20260419T210456
DESCRIPTION:
LAST-MODIFIED:20260419T210456
LOCATION:TBD
SUMMARY:Sunday Gathering
URL;VALUE=URI:https://www.miraclecitycollective.cloud/events/sunday-gatheri
 ng/2026-11-01
END:VEVENT
END:VCALENDAR
